BEGIN:VCALENDAR
CALSCALE:GREGORIAN
X-WR-TIMEZONE;VALUE=TEXT:GMT
PRODID:PEAK Corporation - piCal -
X-WR-CALNAME;VALUE=TEXT:祈年祭
VERSION:2.0
METHOD:PUBLISH
BEGIN:VTIMEZONE
TZID:Etc/GMT-9
BEGIN:STANDARD
DTSTART:19390101T000000
TZOFFSETFROM:+0900
TZOFFSETTO:+0900
TZNAME:Etc/GMT-9
END:STANDARD
END:VTIMEZONE
BEGIN:VEVENT
DTSTART;TZID=Etc/GMT-9:20070314T120000
DTEND;TZID=Etc/GMT-9:20070314T150000
LOCATION:八幡神社
TRANSP:OPAQUE
SEQUENCE:0
UID:pical060-8a275516eff3033d974304b9a773dd76
DTSTAMP:20070102T013759Z
CATEGORIES:市子沖区内
DESCRIPTION:
SUMMARY:祈年祭
RRULE:FREQ=YEARLY;INTERVAL=1;BYMONTH=3;WKST=SU
PRIORITY:0
CLASS:PUBLIC
END:VEVENT
END:VCALENDAR
