BEGIN:VCALENDAR
CALSCALE:GREGORIAN
X-WR-TIMEZONE;VALUE=TEXT:GMT
PRODID:PEAK Corporation - piCal -
X-WR-CALNAME;VALUE=TEXT:田中社春祭り
VERSION:2.0
METHOD:PUBLISH
BEGIN:VTIMEZONE
TZID:Etc/GMT-9
BEGIN:STANDARD
DTSTART:19390101T000000
TZOFFSETFROM:+0900
TZOFFSETTO:+0900
TZNAME:Etc/GMT-9
END:STANDARD
END:VTIMEZONE
BEGIN:VEVENT
DTSTART;TZID=Etc/GMT-9:20170313T180000
DTEND;TZID=Etc/GMT-9:20170313T200000
LOCATION:田中社
TRANSP:OPAQUE
SEQUENCE:1
UID:pical060-3d87e6a9f56dc6d7376e356f90442427
DTSTAMP:20170801T055339Z
CATEGORIES:市子沖区内
DESCRIPTION:袋菓子をお盆に載せてお参りされます\n雨天決行
SUMMARY:田中社春祭り
RRULE:FREQ=YEARLY;INTERVAL=1;BYMONTH=3;WKST=SU
PRIORITY:0
CLASS:PUBLIC
END:VEVENT
END:VCALENDAR
