BEGIN:VCALENDAR
CALSCALE:GREGORIAN
X-WR-TIMEZONE;VALUE=TEXT:GMT
PRODID:PEAK Corporation - piCal -
X-WR-CALNAME;VALUE=TEXT:七夕の節句
VERSION:2.0
METHOD:PUBLISH
BEGIN:VTIMEZONE
TZID:Etc/GMT-9
BEGIN:STANDARD
DTSTART:19390101T000000
TZOFFSETFROM:+0900
TZOFFSETTO:+0900
TZNAME:Etc/GMT-9
END:STANDARD
END:VTIMEZONE
BEGIN:VEVENT
DTSTART;TZID=Etc/GMT-9:20060707T090000
DTEND;TZID=Etc/GMT-9:20060707T170000
LOCATION:
TRANSP:OPAQUE
SEQUENCE:0
UID:pical060-7bb41e6b0b09055be21877e55ea18797
DTSTAMP:20060207T061254Z
CATEGORIES:日本国内
DESCRIPTION:シチセキの節句 → 棚機つ女(たばたつめ) → 七夕の日
SUMMARY:七夕の節句
RRULE:FREQ=YEARLY;INTERVAL=1;BYMONTH=7;WKST=SU
PRIORITY:0
CLASS:PUBLIC
END:VEVENT
END:VCALENDAR
